Package: iNETgrate Version: 1.8.0 Command: /Library/Frameworks/R.framework/Resources/bin/R CMD INSTALL iNETgrate StartedAt: 2025-11-10 15:31:45 -0500 (Mon, 10 Nov 2025) EndedAt: 2025-11-10 15:32:09 -0500 (Mon, 10 Nov 2025) EllapsedTime: 24.6 seconds RetCode: 0 Status: OK