Package: iModMix Version: 1.0.0 Command: rm -rf iModMix.buildbin-libdir && mkdir iModMix.buildbin-libdir && /Users/biocbuild/BBS/utils/build-universal.sh iModMix_1.0.0.tar.gz /Library/Frameworks/R.framework/Resources/bin/R iModMix.buildbin-libdir StartedAt: 2025-11-06 23:08:45 -0500 (Thu, 06 Nov 2025) EndedAt: 2025-11-06 23:08:49 -0500 (Thu, 06 Nov 2025) EllapsedTime: 4.1 seconds RetCode: 0 Status: OK PackageFile: iModMix_1.0.0.tgz PackageFileSize: 10.77 MiB