Package: iGC Version: 1.40.0 Command: /home/biocbuild/bbs-3.22-bioc/R/bin/R CMD INSTALL iGC StartedAt: 2025-11-16 15:05:22 -0500 (Sun, 16 Nov 2025) EndedAt: 2025-11-16 15:05:33 -0500 (Sun, 16 Nov 2025) EllapsedTime: 11.0 seconds RetCode: 0 Status: OK