Package: iClusterPlus Version: 1.46.0 Command: /Library/Frameworks/R.framework/Resources/bin/R CMD INSTALL iClusterPlus StartedAt: 2025-11-20 15:49:36 -0500 (Thu, 20 Nov 2025) EndedAt: 2025-11-20 15:50:44 -0500 (Thu, 20 Nov 2025) EllapsedTime: 67.9 seconds RetCode: 0 Status: OK