Package: iClusterPlus Version: 1.46.0 Command: /Library/Frameworks/R.framework/Resources/bin/R CMD INSTALL iClusterPlus StartedAt: 2025-11-03 15:08:56 -0500 (Mon, 03 Nov 2025) EndedAt: 2025-11-03 15:09:38 -0500 (Mon, 03 Nov 2025) EllapsedTime: 42.3 seconds RetCode: 0 Status: OK