Package: iClusterPlus Version: 1.46.0 Command: /Library/Frameworks/R.framework/Resources/bin/R CMD build --keep-empty-dirs --no-resave-data iClusterPlus StartedAt: 2025-11-03 17:24:29 -0500 (Mon, 03 Nov 2025) EndedAt: 2025-11-03 17:25:19 -0500 (Mon, 03 Nov 2025) EllapsedTime: 50.4 seconds RetCode: 0 Status: OK PackageFile: iClusterPlus_1.46.0.tar.gz PackageFileSize: 20.69 MiB