Package: iClusterPlus Version: 1.46.0 Command: rm -rf iClusterPlus.buildbin-libdir && mkdir iClusterPlus.buildbin-libdir && /Users/biocbuild/BBS/utils/build-universal.sh iClusterPlus_1.46.0.tar.gz /Library/Frameworks/R.framework/Resources/bin/R iClusterPlus.buildbin-libdir StartedAt: 2025-11-04 01:45:20 -0500 (Tue, 04 Nov 2025) EndedAt: 2025-11-04 01:46:16 -0500 (Tue, 04 Nov 2025) EllapsedTime: 56.9 seconds RetCode: 0 Status: OK PackageFile: iClusterPlus_1.46.0.tgz PackageFileSize: 16.15 MiB