Package: iClusterPlus Version: 1.45.0 Command: /Library/Frameworks/R.framework/Resources/bin/R CMD INSTALL iClusterPlus StartedAt: 2025-10-26 15:01:16 -0400 (Sun, 26 Oct 2025) EndedAt: 2025-10-26 15:01:29 -0400 (Sun, 26 Oct 2025) EllapsedTime: 13.7 seconds RetCode: 0 Status: OK