Package: iClusterPlus Version: 1.45.0 Command: /Library/Frameworks/R.framework/Resources/bin/R CMD build --keep-empty-dirs --no-resave-data iClusterPlus StartedAt: 2025-10-26 16:53:18 -0400 (Sun, 26 Oct 2025) EndedAt: 2025-10-26 16:53:33 -0400 (Sun, 26 Oct 2025) EllapsedTime: 15.2 seconds RetCode: 0 Status: OK PackageFile: iClusterPlus_1.45.0.tar.gz PackageFileSize: 20.69 MiB