Package: iClusterPlus Version: 1.45.0 Command: rm -rf iClusterPlus.buildbin-libdir && mkdir iClusterPlus.buildbin-libdir && /Users/biocbuild/BBS/utils/build-universal.sh iClusterPlus_1.45.0.tar.gz /Library/Frameworks/R.framework/Resources/bin/R iClusterPlus.buildbin-libdir StartedAt: 2025-10-26 22:38:31 -0400 (Sun, 26 Oct 2025) EndedAt: 2025-10-26 22:38:47 -0400 (Sun, 26 Oct 2025) EllapsedTime: 15.3 seconds RetCode: 0 Status: OK PackageFile: iClusterPlus_1.45.0.tgz PackageFileSize: 16.12 MiB