Package: iClusterPlus Version: 1.46.0 Command: /Library/Frameworks/R.framework/Resources/bin/R CMD INSTALL iClusterPlus StartedAt: 2025-11-17 16:47:49 -0500 (Mon, 17 Nov 2025) EndedAt: 2025-11-17 16:48:03 -0500 (Mon, 17 Nov 2025) EllapsedTime: 14.3 seconds RetCode: 0 Status: OK