Package: iClusterPlus Version: 1.46.0 Command: rm -rf iClusterPlus.buildbin-libdir && mkdir iClusterPlus.buildbin-libdir && /Users/biocbuild/BBS/utils/build-universal.sh iClusterPlus_1.46.0.tar.gz /Library/Frameworks/R.framework/Resources/bin/R iClusterPlus.buildbin-libdir StartedAt: 2025-11-18 15:43:00 -0500 (Tue, 18 Nov 2025) EndedAt: 2025-11-18 15:43:21 -0500 (Tue, 18 Nov 2025) EllapsedTime: 21.2 seconds RetCode: 0 Status: OK PackageFile: iClusterPlus_1.46.0.tgz PackageFileSize: 16.12 MiB