Package: iClusterPlus Version: 1.46.0 Maintainer: Qianxing Mo , Ronglai Shen MaintainerEmail: shenr at mskcc.org git_url: https://git.bioconductor.org/packages/iClusterPlus git_branch: RELEASE_3_22 git_last_commit: 35314e5 git_last_commit_date: 2025-10-29 10:17:49 -0500 (Wed, 29 Oct 2025)