Package: iChip Version: 1.64.0 Command: /home/biocbuild/bbs-3.22-bioc/R/bin/R CMD INSTALL iChip StartedAt: 2025-11-14 15:04:07 -0500 (Fri, 14 Nov 2025) EndedAt: 2025-11-14 15:04:20 -0500 (Fri, 14 Nov 2025) EllapsedTime: 12.7 seconds RetCode: 0 Status: OK