Package: iChip Version: 1.64.0 Command: /home/biocbuild/bbs-3.22-bioc/R/bin/R CMD build --keep-empty-dirs --no-resave-data --md5 iChip StartedAt: 2025-11-14 18:14:19 -0500 (Fri, 14 Nov 2025) EndedAt: 2025-11-14 18:14:49 -0500 (Fri, 14 Nov 2025) EllapsedTime: 30.0 seconds RetCode: 0 Status: OK PackageFile: iChip_1.64.0.tar.gz PackageFileSize: 1.709 MiB