Package: iASeq Version: 1.54.0 Command: /home/biocbuild/bbs-3.22-bioc/R/bin/R CMD INSTALL iASeq StartedAt: 2025-11-06 15:01:38 -0500 (Thu, 06 Nov 2025) EndedAt: 2025-11-06 15:01:45 -0500 (Thu, 06 Nov 2025) EllapsedTime: 6.7 seconds RetCode: 0 Status: OK