Package: iASeq Version: 1.54.0 Command: /home/biocbuild/bbs-3.22-bioc/R/bin/R CMD build --keep-empty-dirs --no-resave-data --md5 iASeq StartedAt: 2025-11-06 18:10:24 -0500 (Thu, 06 Nov 2025) EndedAt: 2025-11-06 18:10:31 -0500 (Thu, 06 Nov 2025) EllapsedTime: 7.0 seconds RetCode: 0 Status: OK PackageFile: iASeq_1.54.0.tar.gz PackageFileSize: 206.4 KiB