Package: hypergraph Version: 1.82.0 Command: /Library/Frameworks/R.framework/Resources/bin/R CMD INSTALL hypergraph StartedAt: 2025-11-17 17:13:45 -0500 (Mon, 17 Nov 2025) EndedAt: 2025-11-17 17:13:54 -0500 (Mon, 17 Nov 2025) EllapsedTime: 10.0 seconds RetCode: 0 Status: OK