Package: hypergraph Version: 1.82.0 Command: /Library/Frameworks/R.framework/Resources/bin/R CMD build --keep-empty-dirs --no-resave-data hypergraph StartedAt: 2025-11-17 23:16:33 -0500 (Mon, 17 Nov 2025) EndedAt: 2025-11-17 23:16:35 -0500 (Mon, 17 Nov 2025) EllapsedTime: 2.0 seconds RetCode: 0 Status: OK PackageFile: hypergraph_1.82.0.tar.gz PackageFileSize: 8.269 KiB