Package: hypergraph Version: 1.81.0 Command: /Library/Frameworks/R.framework/Resources/bin/R CMD build --keep-empty-dirs --no-resave-data hypergraph StartedAt: 2025-10-26 16:53:03 -0400 (Sun, 26 Oct 2025) EndedAt: 2025-10-26 16:53:04 -0400 (Sun, 26 Oct 2025) EllapsedTime: 1.0 seconds RetCode: 0 Status: OK PackageFile: hypergraph_1.81.0.tar.gz PackageFileSize: 8.267 KiB