Package: hypergraph Version: 1.81.0 Command: rm -rf hypergraph.buildbin-libdir && mkdir hypergraph.buildbin-libdir && /Users/biocbuild/BBS/utils/build-universal.sh hypergraph_1.81.0.tar.gz /Library/Frameworks/R.framework/Resources/bin/R hypergraph.buildbin-libdir StartedAt: 2025-10-24 23:06:20 -0400 (Fri, 24 Oct 2025) EndedAt: 2025-10-24 23:06:22 -0400 (Fri, 24 Oct 2025) EllapsedTime: 2.1 seconds RetCode: 0 Status: OK PackageFile: hypergraph_1.81.0.tgz PackageFileSize: 169.4 KiB