Package: hypergraph Version: 1.82.0 Command: /Library/Frameworks/R.framework/Resources/bin/R CMD INSTALL hypergraph StartedAt: 2025-11-17 17:15:29 -0500 (Mon, 17 Nov 2025) EndedAt: 2025-11-17 17:15:31 -0500 (Mon, 17 Nov 2025) EllapsedTime: 2.3 seconds RetCode: 0 Status: OK