Package: hypergraph Version: 1.82.0 Command: rm -rf hypergraph.buildbin-libdir && mkdir hypergraph.buildbin-libdir && /Users/biocbuild/BBS/utils/build-universal.sh hypergraph_1.82.0.tar.gz /Library/Frameworks/R.framework/Resources/bin/R hypergraph.buildbin-libdir StartedAt: 2025-11-18 15:42:51 -0500 (Tue, 18 Nov 2025) EndedAt: 2025-11-18 15:42:54 -0500 (Tue, 18 Nov 2025) EllapsedTime: 3.0 seconds RetCode: 0 Status: OK PackageFile: hypergraph_1.82.0.tgz PackageFileSize: 169.4 KiB