Package: hyperdraw Version: 1.62.0 Command: /Library/Frameworks/R.framework/Resources/bin/R CMD INSTALL hyperdraw StartedAt: 2025-11-03 15:23:48 -0500 (Mon, 03 Nov 2025) EndedAt: 2025-11-03 15:23:56 -0500 (Mon, 03 Nov 2025) EllapsedTime: 7.7 seconds RetCode: 0 Status: OK