Package: hyperdraw Version: 1.62.0 Command: /Library/Frameworks/R.framework/Resources/bin/R CMD build --keep-empty-dirs --no-resave-data hyperdraw StartedAt: 2025-11-03 17:24:06 -0500 (Mon, 03 Nov 2025) EndedAt: 2025-11-03 17:24:28 -0500 (Mon, 03 Nov 2025) EllapsedTime: 21.9 seconds RetCode: 0 Status: OK PackageFile: hyperdraw_1.62.0.tar.gz PackageFileSize: 204 KiB