Package: hyperdraw Version: 1.62.0 Command: rm -rf hyperdraw.buildbin-libdir && mkdir hyperdraw.buildbin-libdir && /Users/biocbuild/BBS/utils/build-universal.sh hyperdraw_1.62.0.tar.gz /Library/Frameworks/R.framework/Resources/bin/R hyperdraw.buildbin-libdir StartedAt: 2025-11-04 01:45:13 -0500 (Tue, 04 Nov 2025) EndedAt: 2025-11-04 01:45:25 -0500 (Tue, 04 Nov 2025) EllapsedTime: 12.8 seconds RetCode: 0 Status: OK PackageFile: hyperdraw_1.62.0.tgz PackageFileSize: 390.2 KiB