Package: hyperdraw Version: 1.61.0 Command: /Library/Frameworks/R.framework/Resources/bin/R CMD INSTALL hyperdraw StartedAt: 2025-10-28 15:08:23 -0400 (Tue, 28 Oct 2025) EndedAt: 2025-10-28 15:08:25 -0400 (Tue, 28 Oct 2025) EllapsedTime: 2.2 seconds RetCode: 0 Status: OK