Package: hyperdraw Version: 1.61.0 Command: /Library/Frameworks/R.framework/Resources/bin/R CMD build --keep-empty-dirs --no-resave-data hyperdraw StartedAt: 2025-10-28 16:43:24 -0400 (Tue, 28 Oct 2025) EndedAt: 2025-10-28 16:43:30 -0400 (Tue, 28 Oct 2025) EllapsedTime: 6.1 seconds RetCode: 0 Status: OK PackageFile: hyperdraw_1.61.0.tar.gz PackageFileSize: 204.3 KiB