Package: hierinf Version: 1.27.0 Command: /home/biocbuild/bbs-3.22-bioc/R/bin/R CMD build --keep-empty-dirs --no-resave-data --md5 hierinf StartedAt: 2025-10-27 18:08:02 -0400 (Mon, 27 Oct 2025) EndedAt: 2025-10-27 18:09:21 -0400 (Mon, 27 Oct 2025) EllapsedTime: 79.1 seconds RetCode: 0 Status: OK PackageFile: hierinf_1.27.0.tar.gz PackageFileSize: 433.3 KiB