Package: hiReadsProcessor Version: 1.45.1 Command: /home/biocbuild/bbs-3.22-bioc/R/bin/R CMD INSTALL hiReadsProcessor StartedAt: 2025-10-24 16:01:42 -0400 (Fri, 24 Oct 2025) EndedAt: 2025-10-24 16:02:20 -0400 (Fri, 24 Oct 2025) EllapsedTime: 37.7 seconds RetCode: 0 Status: OK