Package: hiReadsProcessor Version: 1.46.0 Command: /Library/Frameworks/R.framework/Resources/bin/R CMD INSTALL hiReadsProcessor StartedAt: 2025-11-10 15:26:57 -0500 (Mon, 10 Nov 2025) EndedAt: 2025-11-10 15:27:13 -0500 (Mon, 10 Nov 2025) EllapsedTime: 15.6 seconds RetCode: 0 Status: OK