Package: hiReadsProcessor Version: 1.46.0 Command: /Library/Frameworks/R.framework/Resources/bin/R CMD build --keep-empty-dirs --no-resave-data hiReadsProcessor StartedAt: 2025-11-10 16:43:00 -0500 (Mon, 10 Nov 2025) EndedAt: 2025-11-10 16:43:24 -0500 (Mon, 10 Nov 2025) EllapsedTime: 24.3 seconds RetCode: 0 Status: OK PackageFile: hiReadsProcessor_1.46.0.tar.gz PackageFileSize: 3.148 MiB