Package: hapFabia Version: 1.52.0 Command: /home/biocbuild/bbs-3.22-bioc/R/bin/R CMD INSTALL hapFabia StartedAt: 2025-11-16 15:14:26 -0500 (Sun, 16 Nov 2025) EndedAt: 2025-11-16 15:14:35 -0500 (Sun, 16 Nov 2025) EllapsedTime: 8.9 seconds RetCode: 0 Status: OK