Package: h5vc Version: 2.43.0 Command: /home/biocbuild/bbs-3.22-bioc/R/bin/R CMD INSTALL h5vc StartedAt: 2025-10-28 15:15:25 -0400 (Tue, 28 Oct 2025) EndedAt: 2025-10-28 15:15:45 -0400 (Tue, 28 Oct 2025) EllapsedTime: 20.2 seconds RetCode: 0 Status: OK