Package: gtrellis Version: 1.42.0 Command: /home/biocbuild/bbs-3.22-bioc/R/bin/R CMD INSTALL gtrellis StartedAt: 2025-11-02 15:22:59 -0500 (Sun, 02 Nov 2025) EndedAt: 2025-11-02 15:23:09 -0500 (Sun, 02 Nov 2025) EllapsedTime: 9.6 seconds RetCode: 0 Status: OK