Package: gsean Version: 1.30.0 Command: /Library/Frameworks/R.framework/Resources/bin/R CMD INSTALL gsean StartedAt: 2025-11-10 15:10:08 -0500 (Mon, 10 Nov 2025) EndedAt: 2025-11-10 15:10:17 -0500 (Mon, 10 Nov 2025) EllapsedTime: 9.6 seconds RetCode: 0 Status: OK