Package: groHMM Version: 1.44.0 Command: /home/biocbuild/bbs-3.22-bioc/R/bin/R CMD build --keep-empty-dirs --no-resave-data --md5 groHMM StartedAt: 2025-11-11 18:05:36 -0500 (Tue, 11 Nov 2025) EndedAt: 2025-11-11 18:08:24 -0500 (Tue, 11 Nov 2025) EllapsedTime: 168.2 seconds RetCode: 0 Status: OK PackageFile: groHMM_1.44.0.tar.gz PackageFileSize: 4.164 MiB