Package: graphite Version: 1.55.3 Command: /home/biocbuild/bbs-3.22-bioc/R/bin/R CMD INSTALL graphite StartedAt: 2025-10-24 15:36:21 -0400 (Fri, 24 Oct 2025) EndedAt: 2025-10-24 15:36:35 -0400 (Fri, 24 Oct 2025) EllapsedTime: 13.7 seconds RetCode: 0 Status: OK