Package: graphite Version: 1.56.0 Command: /Library/Frameworks/R.framework/Resources/bin/R CMD INSTALL graphite StartedAt: 2025-11-10 15:09:01 -0500 (Mon, 10 Nov 2025) EndedAt: 2025-11-10 15:09:06 -0500 (Mon, 10 Nov 2025) EllapsedTime: 5.2 seconds RetCode: 0 Status: OK