Package: graphite Version: 1.56.0 Command: /Library/Frameworks/R.framework/Resources/bin/R CMD build --keep-empty-dirs --no-resave-data graphite StartedAt: 2025-11-10 16:37:19 -0500 (Mon, 10 Nov 2025) EndedAt: 2025-11-10 16:37:44 -0500 (Mon, 10 Nov 2025) EllapsedTime: 25.3 seconds RetCode: 0 Status: OK PackageFile: graphite_1.56.0.tar.gz PackageFileSize: 773.4 KiB