Package: graph Version: 1.88.0 Command: /Library/Frameworks/R.framework/Resources/bin/R CMD INSTALL graph StartedAt: 2025-11-03 15:18:36 -0500 (Mon, 03 Nov 2025) EndedAt: 2025-11-03 15:18:50 -0500 (Mon, 03 Nov 2025) EllapsedTime: 14.4 seconds RetCode: 0 Status: OK