Package: graph Version: 1.88.0 Command: /Library/Frameworks/R.framework/Resources/bin/R CMD build --keep-empty-dirs --no-resave-data graph StartedAt: 2025-11-03 17:15:23 -0500 (Mon, 03 Nov 2025) EndedAt: 2025-11-03 17:16:04 -0500 (Mon, 03 Nov 2025) EllapsedTime: 41.1 seconds RetCode: 0 Status: OK PackageFile: graph_1.88.0.tar.gz PackageFileSize: 1.435 MiB