Package: graph Version: 1.88.0 Command: /Library/Frameworks/R.framework/Resources/bin/R CMD INSTALL graph StartedAt: 2025-11-04 15:06:38 -0500 (Tue, 04 Nov 2025) EndedAt: 2025-11-04 15:06:43 -0500 (Tue, 04 Nov 2025) EllapsedTime: 5.2 seconds RetCode: 0 Status: OK