Package: graph Version: 1.88.0 Command: /Library/Frameworks/R.framework/Resources/bin/R CMD build --keep-empty-dirs --no-resave-data graph StartedAt: 2025-11-02 16:36:47 -0500 (Sun, 02 Nov 2025) EndedAt: 2025-11-02 16:37:01 -0500 (Sun, 02 Nov 2025) EllapsedTime: 14.2 seconds RetCode: 0 Status: OK PackageFile: graph_1.88.0.tar.gz PackageFileSize: 1.435 MiB