Package: graph Version: 1.88.0 Command: rm -rf graph.buildbin-libdir && mkdir graph.buildbin-libdir && /Users/biocbuild/BBS/utils/build-universal.sh graph_1.88.0.tar.gz /Library/Frameworks/R.framework/Resources/bin/R graph.buildbin-libdir StartedAt: 2025-11-02 23:07:14 -0500 (Sun, 02 Nov 2025) EndedAt: 2025-11-02 23:07:20 -0500 (Sun, 02 Nov 2025) EllapsedTime: 6.1 seconds RetCode: 0 Status: OK PackageFile: graph_1.88.0.tgz PackageFileSize: 2.106 MiB