Package: graph Version: 1.88.0 Command: /Library/Frameworks/R.framework/Resources/bin/R CMD INSTALL graph StartedAt: 2025-11-17 17:11:01 -0500 (Mon, 17 Nov 2025) EndedAt: 2025-11-17 17:11:06 -0500 (Mon, 17 Nov 2025) EllapsedTime: 4.6 seconds RetCode: 0 Status: OK