Package: graph Version: 1.88.0 Command: /Library/Frameworks/R.framework/Resources/bin/R CMD build --keep-empty-dirs --no-resave-data graph StartedAt: 2025-11-17 21:42:48 -0500 (Mon, 17 Nov 2025) EndedAt: 2025-11-17 21:43:02 -0500 (Mon, 17 Nov 2025) EllapsedTime: 14.1 seconds RetCode: 0 Status: OK PackageFile: graph_1.88.0.tar.gz PackageFileSize: 1.435 MiB