Package: granulator Version: 1.18.0 Command: /home/biocbuild/bbs-3.22-bioc/R/bin/R CMD INSTALL granulator StartedAt: 2025-11-10 15:15:09 -0500 (Mon, 10 Nov 2025) EndedAt: 2025-11-10 15:15:21 -0500 (Mon, 10 Nov 2025) EllapsedTime: 11.5 seconds RetCode: 0 Status: OK