Package: granulator Version: 1.18.0 Command: /home/biocbuild/bbs-3.22-bioc/R/bin/R CMD build --keep-empty-dirs --no-resave-data --md5 granulator StartedAt: 2025-11-10 18:03:50 -0500 (Mon, 10 Nov 2025) EndedAt: 2025-11-10 18:06:52 -0500 (Mon, 10 Nov 2025) EllapsedTime: 182.1 seconds RetCode: 0 Status: OK PackageFile: granulator_1.18.0.tar.gz PackageFileSize: 1.293 MiB