Package: gpuMagic Version: 1.25.1 Command: /home/biocbuild/bbs-3.22-bioc/R/bin/R CMD INSTALL gpuMagic StartedAt: 2025-10-24 15:22:29 -0400 (Fri, 24 Oct 2025) EndedAt: 2025-10-24 15:22:31 -0400 (Fri, 24 Oct 2025) EllapsedTime: 2.0 seconds RetCode: 1 Status: ERROR